BEGIN:VCALENDAR
VERSION:2.0
PRODID:-//Driftless Area Land Conservancy - ECPv6.15.20//NONSGML v1.0//EN
CALSCALE:GREGORIAN
METHOD:PUBLISH
X-WR-CALNAME:Driftless Area Land Conservancy
X-ORIGINAL-URL:https://driftlessconservancy.org
X-WR-CALDESC:Events for Driftless Area Land Conservancy
REFRESH-INTERVAL;VALUE=DURATION:PT1H
X-Robots-Tag:noindex
X-PUBLISHED-TTL:PT1H
BEGIN:VTIMEZONE
TZID:America/Chicago
BEGIN:DAYLIGHT
TZOFFSETFROM:-0600
TZOFFSETTO:-0500
TZNAME:CDT
DTSTART:20250309T080000
END:DAYLIGHT
BEGIN:STANDARD
TZOFFSETFROM:-0500
TZOFFSETTO:-0600
TZNAME:CST
DTSTART:20251102T070000
END:STANDARD
BEGIN:DAYLIGHT
TZOFFSETFROM:-0600
TZOFFSETTO:-0500
TZNAME:CDT
DTSTART:20260308T080000
END:DAYLIGHT
BEGIN:STANDARD
TZOFFSETFROM:-0500
TZOFFSETTO:-0600
TZNAME:CST
DTSTART:20261101T070000
END:STANDARD
BEGIN:DAYLIGHT
TZOFFSETFROM:-0600
TZOFFSETTO:-0500
TZNAME:CDT
DTSTART:20270314T080000
END:DAYLIGHT
BEGIN:STANDARD
TZOFFSETFROM:-0500
TZOFFSETTO:-0600
TZNAME:CST
DTSTART:20271107T070000
END:STANDARD
END:VTIMEZONE
BEGIN:VEVENT
DTSTART;TZID=America/Chicago:20260910T173000
DTEND;TZID=America/Chicago:20260910T193000
DTSTAMP:20260425T133425
CREATED:20260409T204254Z
LAST-MODIFIED:20260421T192539Z
UID:3948-1789061400-1789068600@driftlessconservancy.org
SUMMARY:Evenings Afield: Restoring the Welsh Hills Prairies
DESCRIPTION:Discover the 20-year effort to restore prairie and savanna on the three Welsh Hills at Taliesin. Hike a new section of the Driftless Trail that crosses the south hill and experience one of the highest quality remnant prairies in the southern Driftless region. This moderately steep\, one-mile hike from Unity Chapel to a scenic vista and back offers both exercise and a chance to connect with the land.\n			\n			\n				\n				\n				\n				\n			\n				\n				\n				\n				\n				\n				\n				Register\n			\n			\n				\n				\n				\n				\n			\n				\n				\n				\n				\n				\n				\n				\n				\n				\n				\n				The Lowery Creek Watershed Initiative is a community-driven partnership of residents\, farmers\, conservation organizations\, and local partners working together to protect water quality\, support resilient agriculture\, and steward the natural and cultural landscape of the valley.\n			\n			\n				\n				\n				\n				\n				\n				\n				\n				\n				\n				\n			\n				Learn More
URL:https://driftlessconservancy.org/event/eveningsafield-welsh-hills/
LOCATION:Welsh Hills South Prairie\, 6596 County Hwy TZ\, Spring Green\, 53588\, United States
CATEGORIES:Community Events,Evenings Afield
ATTACH;FMTTYPE=image/png:https://driftlessconservancy.org/wp-content/uploads/2026/03/Restoring-the-Welsh-Hills-Prairies-September-10th-2026.png
END:VEVENT
END:VCALENDAR