BEGIN:VCALENDAR
VERSION:2.0
PRODID:-//Driftless Area Land Conservancy - ECPv6.15.20//NONSGML v1.0//EN
CALSCALE:GREGORIAN
METHOD:PUBLISH
X-ORIGINAL-URL:https://driftlessconservancy.org
X-WR-CALDESC:Events for Driftless Area Land Conservancy
REFRESH-INTERVAL;VALUE=DURATION:PT1H
X-Robots-Tag:noindex
X-PUBLISHED-TTL:PT1H
BEGIN:VTIMEZONE
TZID:America/Chicago
BEGIN:DAYLIGHT
TZOFFSETFROM:-0600
TZOFFSETTO:-0500
TZNAME:CDT
DTSTART:20240310T080000
END:DAYLIGHT
BEGIN:STANDARD
TZOFFSETFROM:-0500
TZOFFSETTO:-0600
TZNAME:CST
DTSTART:20241103T070000
END:STANDARD
BEGIN:DAYLIGHT
TZOFFSETFROM:-0600
TZOFFSETTO:-0500
TZNAME:CDT
DTSTART:20250309T080000
END:DAYLIGHT
BEGIN:STANDARD
TZOFFSETFROM:-0500
TZOFFSETTO:-0600
TZNAME:CST
DTSTART:20251102T070000
END:STANDARD
BEGIN:DAYLIGHT
TZOFFSETFROM:-0600
TZOFFSETTO:-0500
TZNAME:CDT
DTSTART:20260308T080000
END:DAYLIGHT
BEGIN:STANDARD
TZOFFSETFROM:-0500
TZOFFSETTO:-0600
TZNAME:CST
DTSTART:20261101T070000
END:STANDARD
END:VTIMEZONE
BEGIN:VEVENT
DTSTART;TZID=America/Chicago:20251101T090000
DTEND;TZID=America/Chicago:20251101T130000
DTSTAMP:20260419T082412
CREATED:20250908T161913Z
LAST-MODIFIED:20251028T171407Z
UID:10000149-1761987600-1762002000@driftlessconservancy.org
SUMMARY:Weekends at Wild Oaks
DESCRIPTION:Explore the beauty of Wild Oaks\, just north of New Glarus! Journey into the valley to learn firsthand land stewardship and restoration in a variety of Wisconsin’s natural communities\, including oak savannas\, wetlands\, dry prairies\, and more. Workday activities here are just as diverse as the wildlife that calls this valley home. These activities include invasive species management\, prescribed fire\, trash and debris clean-up\, plant and animal surveys\, and numerous other fun and exciting projects. \nThe terrain at Wild Oaks can be steep and uneven. You are encouraged to work at your own pace and take plenty of breaks. All the necessary tools and equipment will be provided\, but please bring layers\, water\, a snack\, and gloves. \nIf you’re planning to join a workday\, please contact site steward Fil Sanna at 608-636-6222 or filsanna@yahoo.com. 
URL:https://driftlessconservancy.org/event/weekends-at-wild-oaks-3/2025-11-01/
LOCATION:Wild Oaks Preserve\, 277 Brunson Rd\, Belleville\, WI\, 53508\, United States
CATEGORIES:Weekends at Wild Oaks
ATTACH;FMTTYPE=image/jpeg:https://driftlessconservancy.org/wp-content/uploads/2025/04/dalc-wild-oaks-preserve-stephanie-judge.jpg
ORGANIZER;CN="Driftless Area Land Conservancy":MAILTO:info@driftlessconservancy.org
END:VEVENT
BEGIN:VEVENT
DTSTART;TZID=America/Chicago:20251106T170000
DTEND;TZID=America/Chicago:20251106T183000
DTSTAMP:20260419T082412
CREATED:20251028T171912Z
LAST-MODIFIED:20251028T172333Z
UID:10000280-1762448400-1762453800@driftlessconservancy.org
SUMMARY:Volunteer Appreciation
DESCRIPTION:We are thrilled to invite you to our Volunteer Appreciation Event\, celebrating your hard work and dedication to preserving the Driftless Area! Thanks to your efforts\, we’ve had an incredible year of accomplishments\, and we want to say thank you. Join us for refreshments\, fun\, and a look back at all we’ve achieved together! \nRSVP NOW! \nFor any additional questions\, please contact Angie Buelow at angie@driftlessconservancy.org
URL:https://driftlessconservancy.org/event/volunteer-appreciation/
LOCATION:Buck & Honey’s Mt. Horeb\, 108 S 2nd St\, Mt Horeb\, WI\, 53572\, United States
CATEGORIES:Volunteer
ATTACH;FMTTYPE=image/avif:https://driftlessconservancy.org/wp-content/uploads/2025/10/dalc-volunteer-appreciation.avif
ORGANIZER;CN="Driftless Area Land Conservancy":MAILTO:info@driftlessconservancy.org
END:VEVENT
BEGIN:VEVENT
DTSTART;TZID=America/Chicago:20251108T153000
DTEND;TZID=America/Chicago:20251108T170000
DTSTAMP:20260419T082412
CREATED:20251028T172521Z
LAST-MODIFIED:20251028T172704Z
UID:10000281-1762615800-1762621200@driftlessconservancy.org
SUMMARY:Sandhill Crane Viewing
DESCRIPTION:THIS EVENT IS CLOSED DUE TO FULL ATTENDANCE!! If you would like to be considered for the waitlist\, please email barb@driftlessconservancy.org. Stay tuned for more events! \nEvery year\, thousands of sandhill cranes gather on the Lower Wisconsin River as they prepare to migrate south for the winter. Join us to get a prime view of this incredible natural spectacle from a bluff above the river\, and learn about the history and conservation of sandhill cranes from Jeb Barzen\, who directed the Field Ecology Department at the International Crane Foundation for many years. \nThis event will be held at a private residence about six miles east of Spring Green\, just off of Highway 60. The address will be provided closer to the event. 
URL:https://driftlessconservancy.org/event/sandhill-crane-viewing/
LOCATION:WI
ATTACH;FMTTYPE=image/avif:https://driftlessconservancy.org/wp-content/uploads/2025/10/dalc-sandhill-crane-viewing.avif
END:VEVENT
BEGIN:VEVENT
DTSTART;TZID=America/Chicago:20251115T090000
DTEND;TZID=America/Chicago:20251115T130000
DTSTAMP:20260419T082412
CREATED:20250908T161913Z
LAST-MODIFIED:20251028T171407Z
UID:10000150-1763197200-1763211600@driftlessconservancy.org
SUMMARY:Weekends at Wild Oaks
DESCRIPTION:Explore the beauty of Wild Oaks\, just north of New Glarus! Journey into the valley to learn firsthand land stewardship and restoration in a variety of Wisconsin’s natural communities\, including oak savannas\, wetlands\, dry prairies\, and more. Workday activities here are just as diverse as the wildlife that calls this valley home. These activities include invasive species management\, prescribed fire\, trash and debris clean-up\, plant and animal surveys\, and numerous other fun and exciting projects. \nThe terrain at Wild Oaks can be steep and uneven. You are encouraged to work at your own pace and take plenty of breaks. All the necessary tools and equipment will be provided\, but please bring layers\, water\, a snack\, and gloves. \nIf you’re planning to join a workday\, please contact site steward Fil Sanna at 608-636-6222 or filsanna@yahoo.com. 
URL:https://driftlessconservancy.org/event/weekends-at-wild-oaks-3/2025-11-15/
LOCATION:Wild Oaks Preserve\, 277 Brunson Rd\, Belleville\, WI\, 53508\, United States
CATEGORIES:Weekends at Wild Oaks
ATTACH;FMTTYPE=image/jpeg:https://driftlessconservancy.org/wp-content/uploads/2025/04/dalc-wild-oaks-preserve-stephanie-judge.jpg
ORGANIZER;CN="Driftless Area Land Conservancy":MAILTO:info@driftlessconservancy.org
END:VEVENT
BEGIN:VEVENT
DTSTART;TZID=America/Chicago:20251129T090000
DTEND;TZID=America/Chicago:20251129T130000
DTSTAMP:20260419T082412
CREATED:20250908T161913Z
LAST-MODIFIED:20251028T171407Z
UID:10000151-1764406800-1764421200@driftlessconservancy.org
SUMMARY:Weekends at Wild Oaks
DESCRIPTION:Explore the beauty of Wild Oaks\, just north of New Glarus! Journey into the valley to learn firsthand land stewardship and restoration in a variety of Wisconsin’s natural communities\, including oak savannas\, wetlands\, dry prairies\, and more. Workday activities here are just as diverse as the wildlife that calls this valley home. These activities include invasive species management\, prescribed fire\, trash and debris clean-up\, plant and animal surveys\, and numerous other fun and exciting projects. \nThe terrain at Wild Oaks can be steep and uneven. You are encouraged to work at your own pace and take plenty of breaks. All the necessary tools and equipment will be provided\, but please bring layers\, water\, a snack\, and gloves. \nIf you’re planning to join a workday\, please contact site steward Fil Sanna at 608-636-6222 or filsanna@yahoo.com. 
URL:https://driftlessconservancy.org/event/weekends-at-wild-oaks-3/2025-11-29/
LOCATION:Wild Oaks Preserve\, 277 Brunson Rd\, Belleville\, WI\, 53508\, United States
CATEGORIES:Weekends at Wild Oaks
ATTACH;FMTTYPE=image/jpeg:https://driftlessconservancy.org/wp-content/uploads/2025/04/dalc-wild-oaks-preserve-stephanie-judge.jpg
ORGANIZER;CN="Driftless Area Land Conservancy":MAILTO:info@driftlessconservancy.org
END:VEVENT
END:VCALENDAR